BEGIN:VCALENDAR
VERSION:2.0
PRODID:-//CSEMADOK - SZMMI Szlovákiai Magyar Művelődési Intézet - ECPv6.15.11//NONSGML v1.0//EN
CALSCALE:GREGORIAN
METHOD:PUBLISH
X-ORIGINAL-URL:https://csemadok.sk
X-WR-CALDESC:Események CSEMADOK - SZMMI Szlovákiai Magyar Művelődési Intézet
REFRESH-INTERVAL;VALUE=DURATION:PT1H
X-Robots-Tag:noindex
X-PUBLISHED-TTL:PT1H
BEGIN:VTIMEZONE
TZID:Europe/Budapest
BEGIN:DAYLIGHT
TZOFFSETFROM:+0100
TZOFFSETTO:+0200
TZNAME:CEST
DTSTART:20240331T010000
END:DAYLIGHT
BEGIN:STANDARD
TZOFFSETFROM:+0200
TZOFFSETTO:+0100
TZNAME:CET
DTSTART:20241027T010000
END:STANDARD
BEGIN:DAYLIGHT
TZOFFSETFROM:+0100
TZOFFSETTO:+0200
TZNAME:CEST
DTSTART:20250330T010000
END:DAYLIGHT
BEGIN:STANDARD
TZOFFSETFROM:+0200
TZOFFSETTO:+0100
TZNAME:CET
DTSTART:20251026T010000
END:STANDARD
BEGIN:DAYLIGHT
TZOFFSETFROM:+0100
TZOFFSETTO:+0200
TZNAME:CEST
DTSTART:20260329T010000
END:DAYLIGHT
BEGIN:STANDARD
TZOFFSETFROM:+0200
TZOFFSETTO:+0100
TZNAME:CET
DTSTART:20261025T010000
END:STANDARD
END:VTIMEZONE
BEGIN:VEVENT
DTSTART;TZID=Europe/Budapest:20251107T170000
DTEND;TZID=Europe/Budapest:20251107T183000
DTSTAMP:20260422T065641
CREATED:20251102T092127Z
LAST-MODIFIED:20251201T102133Z
UID:10000004-1762534800-1762540200@csemadok.sk
SUMMARY:A XXIV. Kodály Zoltán Nemzetközi Hegedűverseny gálaműsora
DESCRIPTION:Meghívó a XXIV. Kodály Zoltán Nemzetközi Hegedűverseny gálaműsorára\, melyre Galántán kerül sor.
URL:https://csemadok.sk/esemeny/a-xxiv-kodaly-zoltan-nemzetkozi-hegeduverseny-galamusora/
LOCATION:Városi Művelődési Központ\, Galánta\, Mierové námestie 942/3\, Galánta\, 924 01\, Slovakia (Slovak Republic)
CATEGORIES:Eseménynaptár,Fesztivál, kulturális rendezvény,Kodály Zoltán Nemzetközi Hegedűverseny,Koncert, Előadóest,Meghívó,Országos rendezvény
ATTACH;FMTTYPE=image/png:https://wp-csemadok.s3.eu-central-1.amazonaws.com/wp-content/uploads/2025/10/30094047/kodaly-gala-2025.png
END:VEVENT
BEGIN:VEVENT
DTSTART;TZID=Europe/Budapest:20251006T153000
DTEND;TZID=Europe/Budapest:20251006T173000
DTSTAMP:20260422T065641
CREATED:20251102T101318Z
LAST-MODIFIED:20251102T101410Z
UID:10000006-1759764600-1759771800@csemadok.sk
SUMMARY:Tornaljai városnapok - aradi vértanúk napja
DESCRIPTION:A CSEMADOK Tornaljai Területi Választmánya\, a Rákóczi Szövetség helyi szervezete és Tornalja Város Önkormányzata \n\n\n\nMEGHÍVÓ \n\n\n\nA tornaljai városnapok keretében\, az aradi vértanúk napja alkalmából ünnepi megemlékezést rendeznek \n\n\n\n2025. október 6-án (hétfőn)\, 15:30-tól a református templomban. 16:30-tól: koszorúzás a Tornallyay-kúria udvarán. \n\n\n\nÜnnepi beszédet mond: Halász Márta\, Lévárt polgármestere és a Csemadok Lévárti Alapszervezetének elnöke \n\n\n\nKözreműködnek: Kazinczy Ferenc Alapiskola diákjai és az Andante énekkar
URL:https://csemadok.sk/esemeny/tornaljai-varosnapok-aradi-vertanuk-napja/
LOCATION:Református templom\, Tornalja\, Slovakia (Slovak Republic)
CATEGORIES:Eseménynaptár,Megemlékezés
ATTACH;FMTTYPE=image/jpeg:https://wp-csemadok.s3.eu-central-1.amazonaws.com/wp-content/uploads/2025/09/30105514/tornalja-varosnapok-2025.jpeg
END:VEVENT
END:VCALENDAR