BEGIN:VCALENDAR
VERSION:2.0
PRODID:-//CSEMADOK - SZMMI Szlovákiai Magyar Művelődési Intézet - ECPv6.15.11//NONSGML v1.0//EN
CALSCALE:GREGORIAN
METHOD:PUBLISH
X-ORIGINAL-URL:https://csemadok.sk
X-WR-CALDESC:Események CSEMADOK - SZMMI Szlovákiai Magyar Művelődési Intézet
REFRESH-INTERVAL;VALUE=DURATION:PT1H
X-Robots-Tag:noindex
X-PUBLISHED-TTL:PT1H
BEGIN:VTIMEZONE
TZID:Europe/Budapest
BEGIN:DAYLIGHT
TZOFFSETFROM:+0100
TZOFFSETTO:+0200
TZNAME:CEST
DTSTART:20250330T010000
END:DAYLIGHT
BEGIN:STANDARD
TZOFFSETFROM:+0200
TZOFFSETTO:+0100
TZNAME:CET
DTSTART:20251026T010000
END:STANDARD
BEGIN:DAYLIGHT
TZOFFSETFROM:+0100
TZOFFSETTO:+0200
TZNAME:CEST
DTSTART:20260329T010000
END:DAYLIGHT
BEGIN:STANDARD
TZOFFSETFROM:+0200
TZOFFSETTO:+0100
TZNAME:CET
DTSTART:20261025T010000
END:STANDARD
BEGIN:DAYLIGHT
TZOFFSETFROM:+0100
TZOFFSETTO:+0200
TZNAME:CEST
DTSTART:20270328T010000
END:DAYLIGHT
BEGIN:STANDARD
TZOFFSETFROM:+0200
TZOFFSETTO:+0100
TZNAME:CET
DTSTART:20271031T010000
END:STANDARD
END:VTIMEZONE
BEGIN:VEVENT
DTSTART;TZID=Europe/Budapest:20260411T140000
DTEND;TZID=Europe/Budapest:20260411T140000
DTSTAMP:20260422T034007
CREATED:20260402T095218Z
LAST-MODIFIED:20260402T095218Z
UID:10000067-1775916000-1775916000@csemadok.sk
SUMMARY:A kitelepített felvidéki magyarokra emlékezünk Gömörfalván
DESCRIPTION:A Csemadok Gömörfalvai Alapszervezete tisztelettel meghívja Önt és kedves családját a kitelepített felvidéki magyarokra való megemlékezésre. \nA rendezvényre 2026. április 11-én\, szombaton 14:00 órai kezdettel kerül sor Gömörfalván\, az emlékparkban. \nA megemlékezés programja:\n– vers\n– köszöntő – B. Kovács István\n– koszorúzás\n– Himnusz \nA koszorúzást követően a kultúrházban folytatódik a program\, ahol kulturális műsor\, filmvetítés\, megvendégelés és kötetlen beszélgetés várja a résztvevőket. \nA rendezvény megvalósítását az alábbi támogatók segítették:\n– Rákóczi Szövetség Gyöngyösi Szervezete\n– Csemadok Tornaljai Területi Választmánya\n– Gömörfalva Község Önkormányzata \nKérjük\, tisztelje meg jelenlétével rendezvényünket!
URL:https://csemadok.sk/esemeny/a-kitelepitett-felvideki-magyarokra-emlekezunk-gomorfalvan/
LOCATION:Gömörfalva\, Gemerská Ves\, Slovakia (Slovak Republic)
CATEGORIES:Esemény,Eseménynaptár,Megemlékezés,Meghívó
ATTACH;FMTTYPE=image/jpeg:https://wp-csemadok.s3.eu-central-1.amazonaws.com/wp-content/uploads/2026/04/02115152/4626.jpg
END:VEVENT
BEGIN:VEVENT
DTSTART;TZID=Europe/Budapest:20260411T180000
DTEND;TZID=Europe/Budapest:20260411T180000
DTSTAMP:20260422T034007
CREATED:20260408T072940Z
LAST-MODIFIED:20260408T072940Z
UID:10000068-1775930400-1775930400@csemadok.sk
SUMMARY:Emlékművek Emlékhelyek II. - bemutatja Görföl Jenő
DESCRIPTION:Könyvbemutató Éberhardon a helyi Alapiskolában (régi magyar iskola).
URL:https://csemadok.sk/esemeny/emlekmuvek-emlekhelyek-ii-bemutatja-gorfol-jeno/
LOCATION:Éberhard\, Éberhard\, Slovakia (Slovak Republic)
CATEGORIES:Esemény,Eseménynaptár,Könyvbemutató,Meghívó
ATTACH;FMTTYPE=image/jpeg:https://wp-csemadok.s3.eu-central-1.amazonaws.com/wp-content/uploads/2026/04/08092919/konyvbemutato-gorfol.jpg
END:VEVENT
BEGIN:VEVENT
DTSTART;TZID=Europe/Budapest:20260411T180000
DTEND;TZID=Europe/Budapest:20260411T180000
DTSTAMP:20260422T034007
CREATED:20260409T120145Z
LAST-MODIFIED:20260409T120145Z
UID:10000072-1775930400-1775930400@csemadok.sk
SUMMARY:Rejtő Jenő est az Alsószeli kultúrházban
DESCRIPTION:
URL:https://csemadok.sk/esemeny/rejto-jeno-est-az-alsoszeli-kulturhazban/
LOCATION:Alsószeli\, Dolné Saliby\, Slovakia (Slovak Republic)
CATEGORIES:Esemény,Eseménynaptár,Meghívó
ATTACH;FMTTYPE=image/jpeg:https://wp-csemadok.s3.eu-central-1.amazonaws.com/wp-content/uploads/2026/04/09140125/rejto-jeno-est.jpg
END:VEVENT
END:VCALENDAR