BEGIN:VCALENDAR
VERSION:2.0
PRODID:-//CSEMADOK - SZMMI Szlovákiai Magyar Művelődési Intézet - ECPv6.15.11//NONSGML v1.0//EN
CALSCALE:GREGORIAN
METHOD:PUBLISH
X-WR-CALNAME:CSEMADOK - SZMMI Szlovákiai Magyar Művelődési Intézet
X-ORIGINAL-URL:https://csemadok.sk
X-WR-CALDESC:Események CSEMADOK - SZMMI Szlovákiai Magyar Művelődési Intézet
REFRESH-INTERVAL;VALUE=DURATION:PT1H
X-Robots-Tag:noindex
X-PUBLISHED-TTL:PT1H
BEGIN:VTIMEZONE
TZID:Europe/Budapest
BEGIN:DAYLIGHT
TZOFFSETFROM:+0100
TZOFFSETTO:+0200
TZNAME:CEST
DTSTART:20250330T010000
END:DAYLIGHT
BEGIN:STANDARD
TZOFFSETFROM:+0200
TZOFFSETTO:+0100
TZNAME:CET
DTSTART:20251026T010000
END:STANDARD
BEGIN:DAYLIGHT
TZOFFSETFROM:+0100
TZOFFSETTO:+0200
TZNAME:CEST
DTSTART:20260329T010000
END:DAYLIGHT
BEGIN:STANDARD
TZOFFSETFROM:+0200
TZOFFSETTO:+0100
TZNAME:CET
DTSTART:20261025T010000
END:STANDARD
BEGIN:DAYLIGHT
TZOFFSETFROM:+0100
TZOFFSETTO:+0200
TZNAME:CEST
DTSTART:20270328T010000
END:DAYLIGHT
BEGIN:STANDARD
TZOFFSETFROM:+0200
TZOFFSETTO:+0100
TZNAME:CET
DTSTART:20271031T010000
END:STANDARD
END:VTIMEZONE
BEGIN:VEVENT
DTSTART;TZID=Europe/Budapest:20260119T080000
DTEND;TZID=Europe/Budapest:20260119T170000
DTSTAMP:20260422T001818
CREATED:20260119T145731Z
LAST-MODIFIED:20260119T145731Z
UID:10000031-1768809600-1768842000@csemadok.sk
SUMMARY:Csemadok Nagymegyeri Alapszervezete évzáró ülése
DESCRIPTION:Tisztelettel meghívjuk a CSEMADOK NAGYMEGYERI ALAPSZERVEZETE évzáró tagsági ülésére\, amely 2026. február 8-án (vasárnap)\, 15:00 órai kezdettel lesz megtartva a helyi VMK-ban.
URL:https://csemadok.sk/esemeny/csemadok-nagymegyeri-alapszervezete-evzaro-ulese/
LOCATION:Nagymegyer\, Veľký Meder\, Slovakia (Slovak Republic)
CATEGORIES:Esemény,Eseménynaptár,Meghívó
ATTACH;FMTTYPE=image/jpeg:https://wp-csemadok.s3.eu-central-1.amazonaws.com/wp-content/uploads/2026/01/19155634/Evzaro-2026.jpg
END:VEVENT
END:VCALENDAR