BEGIN:VCALENDAR
VERSION:2.0
PRODID:-//CSEMADOK - SZMMI Szlovákiai Magyar Művelődési Intézet - ECPv6.15.11//NONSGML v1.0//EN
CALSCALE:GREGORIAN
METHOD:PUBLISH
X-ORIGINAL-URL:https://csemadok.sk
X-WR-CALDESC:Események CSEMADOK - SZMMI Szlovákiai Magyar Művelődési Intézet
REFRESH-INTERVAL;VALUE=DURATION:PT1H
X-Robots-Tag:noindex
X-PUBLISHED-TTL:PT1H
BEGIN:VTIMEZONE
TZID:Europe/Budapest
BEGIN:DAYLIGHT
TZOFFSETFROM:+0100
TZOFFSETTO:+0200
TZNAME:CEST
DTSTART:20250330T010000
END:DAYLIGHT
BEGIN:STANDARD
TZOFFSETFROM:+0200
TZOFFSETTO:+0100
TZNAME:CET
DTSTART:20251026T010000
END:STANDARD
BEGIN:DAYLIGHT
TZOFFSETFROM:+0100
TZOFFSETTO:+0200
TZNAME:CEST
DTSTART:20260329T010000
END:DAYLIGHT
BEGIN:STANDARD
TZOFFSETFROM:+0200
TZOFFSETTO:+0100
TZNAME:CET
DTSTART:20261025T010000
END:STANDARD
BEGIN:DAYLIGHT
TZOFFSETFROM:+0100
TZOFFSETTO:+0200
TZNAME:CEST
DTSTART:20270328T010000
END:DAYLIGHT
BEGIN:STANDARD
TZOFFSETFROM:+0200
TZOFFSETTO:+0100
TZNAME:CET
DTSTART:20271031T010000
END:STANDARD
END:VTIMEZONE
BEGIN:VEVENT
DTSTART;TZID=Europe/Budapest:20260118T150000
DTEND;TZID=Europe/Budapest:20260118T150000
DTSTAMP:20260422T001934
CREATED:20251231T144619Z
LAST-MODIFIED:20251231T144619Z
UID:10000026-1768748400-1768748400@csemadok.sk
SUMMARY:Magyar Kultúra Napja\, 2026
DESCRIPTION:A Csemadok Országos Tanácsa 2008 óta szervezi a magyar kultúra napi országos ünnepségét Galántán. Ez alkalomból ünnepi műsor keretében adjuk át a Csemadok elismeréseit azoknak a személyeknek\, akik életműve\, illetve közművelődési tevékenysége közösségünk számára kiemelkedő jelentőségű. 2026-ban ünnepségünket január 18-án (vasárnap) 15 órakor tartjuk a galántai művelődési központban. \nFullscreen Mode
URL:https://csemadok.sk/esemeny/magyar-kultura-napja-2026/
LOCATION:Galánata\, Galanta\, Slovakia (Slovak Republic)
CATEGORIES:Esemény,Eseménynaptár,Magyar Kultúra Napja
ATTACH;FMTTYPE=image/jpeg:https://wp-csemadok.s3.eu-central-1.amazonaws.com/wp-content/uploads/2025/12/30170221/magyar-kultura-napja-logo.jpg
END:VEVENT
END:VCALENDAR