BEGIN:VCALENDAR
VERSION:2.0
PRODID:-//CSEMADOK - SZMMI Szlovákiai Magyar Művelődési Intézet - ECPv6.15.11//NONSGML v1.0//EN
CALSCALE:GREGORIAN
METHOD:PUBLISH
X-ORIGINAL-URL:https://csemadok.sk
X-WR-CALDESC:Események CSEMADOK - SZMMI Szlovákiai Magyar Művelődési Intézet
REFRESH-INTERVAL;VALUE=DURATION:PT1H
X-Robots-Tag:noindex
X-PUBLISHED-TTL:PT1H
BEGIN:VTIMEZONE
TZID:Europe/Budapest
BEGIN:DAYLIGHT
TZOFFSETFROM:+0100
TZOFFSETTO:+0200
TZNAME:CEST
DTSTART:20240331T010000
END:DAYLIGHT
BEGIN:STANDARD
TZOFFSETFROM:+0200
TZOFFSETTO:+0100
TZNAME:CET
DTSTART:20241027T010000
END:STANDARD
BEGIN:DAYLIGHT
TZOFFSETFROM:+0100
TZOFFSETTO:+0200
TZNAME:CEST
DTSTART:20250330T010000
END:DAYLIGHT
BEGIN:STANDARD
TZOFFSETFROM:+0200
TZOFFSETTO:+0100
TZNAME:CET
DTSTART:20251026T010000
END:STANDARD
BEGIN:DAYLIGHT
TZOFFSETFROM:+0100
TZOFFSETTO:+0200
TZNAME:CEST
DTSTART:20260329T010000
END:DAYLIGHT
BEGIN:STANDARD
TZOFFSETFROM:+0200
TZOFFSETTO:+0100
TZNAME:CET
DTSTART:20261025T010000
END:STANDARD
END:VTIMEZONE
BEGIN:VEVENT
DTSTART;TZID=Europe/Budapest:20251214T150000
DTEND;TZID=Europe/Budapest:20251214T150000
DTSTAMP:20260422T013026
CREATED:20251127T084757Z
LAST-MODIFIED:20251127T085034Z
UID:10000011-1765724400-1765724400@csemadok.sk
SUMMARY:Ünnepi karácsonyi hangverseny
DESCRIPTION:Szép napunk támad – Ünnepi karácsonyi hangverseny Galántán a Városi Művelődési Központ színháztermében.
URL:https://csemadok.sk/esemeny/unnepi-karacsonyi-hangverseny/
LOCATION:Városi Művelődési Központ\, Galánta\, Mierové námestie 942/3\, Galánta\, 924 01\, Slovakia (Slovak Republic)
CATEGORIES:Esemény,Eseménynaptár
ATTACH;FMTTYPE=image/png:https://wp-csemadok.s3.eu-central-1.amazonaws.com/wp-content/uploads/2025/11/27094108/Karacsonyi-koncert2025.png
END:VEVENT
BEGIN:VEVENT
DTSTART;TZID=Europe/Budapest:20251214T150000
DTEND;TZID=Europe/Budapest:20251214T170000
DTSTAMP:20260422T013026
CREATED:20251211T141541Z
LAST-MODIFIED:20251211T141541Z
UID:10000021-1765724400-1765731600@csemadok.sk
SUMMARY:Adventi hangverseny
DESCRIPTION:A Nagymagyari Kulturális Közösség tisztelettel meghívja Önöket az Adventi hangversenyre.\nIdőpont: 2025. december 14. (vasárnap) 15:00 órai kezdettel\nHelyszín: a helyi katolikus templom\nFellép: GAUDIUM régizenei együttes \nFullscreen Mode
URL:https://csemadok.sk/esemeny/adventi-hangverseny-2/
LOCATION:Nagymagyar\, Zlaté Klasy\, Slovakia (Slovak Republic)
CATEGORIES:Esemény,Eseménynaptár,Meghívó
ATTACH;FMTTYPE=image/bmp:https://wp-csemadok.s3.eu-central-1.amazonaws.com/wp-content/uploads/2025/12/11151408/plakat_nagymagyar.bmp
END:VEVENT
END:VCALENDAR