BEGIN:VCALENDAR
VERSION:2.0
PRODID:-//CSEMADOK - SZMMI Szlovákiai Magyar Művelődési Intézet - ECPv6.15.11//NONSGML v1.0//EN
CALSCALE:GREGORIAN
METHOD:PUBLISH
X-WR-CALNAME:CSEMADOK - SZMMI Szlovákiai Magyar Művelődési Intézet
X-ORIGINAL-URL:https://csemadok.sk
X-WR-CALDESC:Események CSEMADOK - SZMMI Szlovákiai Magyar Művelődési Intézet
REFRESH-INTERVAL;VALUE=DURATION:PT1H
X-Robots-Tag:noindex
X-PUBLISHED-TTL:PT1H
BEGIN:VTIMEZONE
TZID:Europe/Budapest
BEGIN:DAYLIGHT
TZOFFSETFROM:+0100
TZOFFSETTO:+0200
TZNAME:CEST
DTSTART:20240331T010000
END:DAYLIGHT
BEGIN:STANDARD
TZOFFSETFROM:+0200
TZOFFSETTO:+0100
TZNAME:CET
DTSTART:20241027T010000
END:STANDARD
BEGIN:DAYLIGHT
TZOFFSETFROM:+0100
TZOFFSETTO:+0200
TZNAME:CEST
DTSTART:20250330T010000
END:DAYLIGHT
BEGIN:STANDARD
TZOFFSETFROM:+0200
TZOFFSETTO:+0100
TZNAME:CET
DTSTART:20251026T010000
END:STANDARD
BEGIN:DAYLIGHT
TZOFFSETFROM:+0100
TZOFFSETTO:+0200
TZNAME:CEST
DTSTART:20260329T010000
END:DAYLIGHT
BEGIN:STANDARD
TZOFFSETFROM:+0200
TZOFFSETTO:+0100
TZNAME:CET
DTSTART:20261025T010000
END:STANDARD
END:VTIMEZONE
BEGIN:VEVENT
DTSTART;TZID=Europe/Budapest:20251212T170000
DTEND;TZID=Europe/Budapest:20251212T170000
DTSTAMP:20260422T012949
CREATED:20251208T144153Z
LAST-MODIFIED:20251208T144238Z
UID:10000020-1765558800-1765558800@csemadok.sk
SUMMARY:80 éve történt „Malenkij robot”
DESCRIPTION:A deportálásokról\, a GULAG kegyetlen világáról tart előadást Köteles László\, a Csemadok országos alelnöke\, a PATRIOTA honismereti szövetség elnöke 2025. december 12-én\, pénteken\, 17:00 órától a Csemadok-székház emeleti termében\, Kovács utca 38. szám alatt Kassán. \nMinden kedves érdeklődőt szeretettel várunk! \n  \nCsemadok Kassai Városi Választmánya \nKovács u./Kováčska u. 38.\, 040 01 Kassa/Košice \ntel.: +421 905 347 258 \ne-mail: titkarsag@kassacsemadok.eu
URL:https://csemadok.sk/esemeny/80-eve-tortent-malenkij-robot/
LOCATION:Kassa\, Kováčska u. 38\, Košice\, Slovakia (Slovak Republic)
CATEGORIES:Esemény,Eseménynaptár,Meghívó
ATTACH;FMTTYPE=image/jpeg:https://wp-csemadok.s3.eu-central-1.amazonaws.com/wp-content/uploads/2025/12/08153939/Gulag.jpg
END:VEVENT
END:VCALENDAR