BEGIN:VCALENDAR
VERSION:2.0
PRODID:-//CSEMADOK - SZMMI Szlovákiai Magyar Művelődési Intézet - ECPv6.15.11//NONSGML v1.0//EN
CALSCALE:GREGORIAN
METHOD:PUBLISH
X-ORIGINAL-URL:https://csemadok.sk
X-WR-CALDESC:Események CSEMADOK - SZMMI Szlovákiai Magyar Művelődési Intézet
REFRESH-INTERVAL;VALUE=DURATION:PT1H
X-Robots-Tag:noindex
X-PUBLISHED-TTL:PT1H
BEGIN:VTIMEZONE
TZID:Europe/Budapest
BEGIN:DAYLIGHT
TZOFFSETFROM:+0100
TZOFFSETTO:+0200
TZNAME:CEST
DTSTART:20240331T010000
END:DAYLIGHT
BEGIN:STANDARD
TZOFFSETFROM:+0200
TZOFFSETTO:+0100
TZNAME:CET
DTSTART:20241027T010000
END:STANDARD
BEGIN:DAYLIGHT
TZOFFSETFROM:+0100
TZOFFSETTO:+0200
TZNAME:CEST
DTSTART:20250330T010000
END:DAYLIGHT
BEGIN:STANDARD
TZOFFSETFROM:+0200
TZOFFSETTO:+0100
TZNAME:CET
DTSTART:20251026T010000
END:STANDARD
BEGIN:DAYLIGHT
TZOFFSETFROM:+0100
TZOFFSETTO:+0200
TZNAME:CEST
DTSTART:20260329T010000
END:DAYLIGHT
BEGIN:STANDARD
TZOFFSETFROM:+0200
TZOFFSETTO:+0100
TZNAME:CET
DTSTART:20261025T010000
END:STANDARD
END:VTIMEZONE
BEGIN:VEVENT
DTSTART;TZID=Europe/Budapest:20251123T170000
DTEND;TZID=Europe/Budapest:20251123T170000
DTSTAMP:20260422T031815
CREATED:20251119T142240Z
LAST-MODIFIED:20251119T142240Z
UID:10000008-1763917200-1763917200@csemadok.sk
SUMMARY:Csárdáskirálynő Zselízen!
DESCRIPTION:Egy felejthetetlen estére invitálunk mindenkit\, ahol megelevenedik Kálmán Imre legendás operettje\, a Csárdáskirálynő! A legszebb dallamok\, csillogás\, humor és romantika – minden adott egy varázslatos vasárnap estéhez!\n2025. november 23. (vasárnap)\n17:00\nZselíz – Kultúrház\nBelépő: 5 € (a helyszínen)\nKözreműködnek: Hajtman Lívia\, Janszo Orsolya\, Wurczer Péter\, Nagy Noémi\, Pfeiferlik Tamás és Nagy Tibor\n Mindenkit szeretettel várunk egy különleges zenei élményre!\n☝️Ne maradjanak le – osszák meg\, hívjanak meg másokat is!
URL:https://csemadok.sk/esemeny/csardaskiralyno-zselizen/
LOCATION:Zselíz\, Zselíz
CATEGORIES:Esemény,Eseménynaptár,Meghívó
ATTACH;FMTTYPE=image/jpeg:https://wp-csemadok.s3.eu-central-1.amazonaws.com/wp-content/uploads/2025/11/19151854/CSK_hu.jpg
END:VEVENT
END:VCALENDAR