BEGIN:VCALENDAR
VERSION:2.0
PRODID:-//CSEMADOK - SZMMI Szlovákiai Magyar Művelődési Intézet - ECPv6.15.11//NONSGML v1.0//EN
CALSCALE:GREGORIAN
METHOD:PUBLISH
X-ORIGINAL-URL:https://csemadok.sk
X-WR-CALDESC:Események CSEMADOK - SZMMI Szlovákiai Magyar Művelődési Intézet
REFRESH-INTERVAL;VALUE=DURATION:PT1H
X-Robots-Tag:noindex
X-PUBLISHED-TTL:PT1H
BEGIN:VTIMEZONE
TZID:Europe/Budapest
BEGIN:DAYLIGHT
TZOFFSETFROM:+0100
TZOFFSETTO:+0200
TZNAME:CEST
DTSTART:20240331T010000
END:DAYLIGHT
BEGIN:STANDARD
TZOFFSETFROM:+0200
TZOFFSETTO:+0100
TZNAME:CET
DTSTART:20241027T010000
END:STANDARD
BEGIN:DAYLIGHT
TZOFFSETFROM:+0100
TZOFFSETTO:+0200
TZNAME:CEST
DTSTART:20250330T010000
END:DAYLIGHT
BEGIN:STANDARD
TZOFFSETFROM:+0200
TZOFFSETTO:+0100
TZNAME:CET
DTSTART:20251026T010000
END:STANDARD
BEGIN:DAYLIGHT
TZOFFSETFROM:+0100
TZOFFSETTO:+0200
TZNAME:CEST
DTSTART:20260329T010000
END:DAYLIGHT
BEGIN:STANDARD
TZOFFSETFROM:+0200
TZOFFSETTO:+0100
TZNAME:CET
DTSTART:20261025T010000
END:STANDARD
END:VTIMEZONE
BEGIN:VEVENT
DTSTART;TZID=Europe/Budapest:20251119T180000
DTEND;TZID=Europe/Budapest:20251119T180000
DTSTAMP:20260422T031815
CREATED:20251117T114713Z
LAST-MODIFIED:20251119T143600Z
UID:10000007-1763575200-1763575200@csemadok.sk
SUMMARY:Szomolai Tibor: Vérvonal című könyvének bemutatója
DESCRIPTION:55. Fábry Zoltán Közéleti és Irodalmi napok – Szomolai Tibor: Vérvonal című könyvének bemutatója: \n 
URL:https://csemadok.sk/esemeny/szomolai-tibor-vervonal-cimu-konyvenek-bemutatoja/
LOCATION:Szepsi\, Moldava nad Bodvou
CATEGORIES:Esemény,Eseménynaptár,Meghívó
ATTACH;FMTTYPE=image/jpeg:https://wp-csemadok.s3.eu-central-1.amazonaws.com/wp-content/uploads/2025/11/17124142/szomolai.jpg
END:VEVENT
END:VCALENDAR